BEGIN:VCALENDAR
VERSION:2.0
PRODID:-//Alberta Dance Alliance - ECPv6.15.20//NONSGML v1.0//EN
CALSCALE:GREGORIAN
METHOD:PUBLISH
X-WR-CALNAME:Alberta Dance Alliance
X-ORIGINAL-URL:https://www.abdancealliance.ab.ca
X-WR-CALDESC:Events for Alberta Dance Alliance
REFRESH-INTERVAL;VALUE=DURATION:PT1H
X-Robots-Tag:noindex
X-PUBLISHED-TTL:PT1H
BEGIN:VTIMEZONE
TZID:America/Edmonton
BEGIN:DAYLIGHT
TZOFFSETFROM:-0700
TZOFFSETTO:-0600
TZNAME:MDT
DTSTART:20180311T090000
END:DAYLIGHT
BEGIN:STANDARD
TZOFFSETFROM:-0600
TZOFFSETTO:-0700
TZNAME:MST
DTSTART:20181104T080000
END:STANDARD
BEGIN:DAYLIGHT
TZOFFSETFROM:-0700
TZOFFSETTO:-0600
TZNAME:MDT
DTSTART:20190310T090000
END:DAYLIGHT
BEGIN:STANDARD
TZOFFSETFROM:-0600
TZOFFSETTO:-0700
TZNAME:MST
DTSTART:20191103T080000
END:STANDARD
BEGIN:DAYLIGHT
TZOFFSETFROM:-0700
TZOFFSETTO:-0600
TZNAME:MDT
DTSTART:20200308T090000
END:DAYLIGHT
BEGIN:STANDARD
TZOFFSETFROM:-0600
TZOFFSETTO:-0700
TZNAME:MST
DTSTART:20201101T080000
END:STANDARD
BEGIN:DAYLIGHT
TZOFFSETFROM:-0700
TZOFFSETTO:-0600
TZNAME:MDT
DTSTART:20210314T090000
END:DAYLIGHT
BEGIN:STANDARD
TZOFFSETFROM:-0600
TZOFFSETTO:-0700
TZNAME:MST
DTSTART:20211107T080000
END:STANDARD
BEGIN:DAYLIGHT
TZOFFSETFROM:-0700
TZOFFSETTO:-0600
TZNAME:MDT
DTSTART:20220313T090000
END:DAYLIGHT
BEGIN:STANDARD
TZOFFSETFROM:-0600
TZOFFSETTO:-0700
TZNAME:MST
DTSTART:20221106T080000
END:STANDARD
BEGIN:DAYLIGHT
TZOFFSETFROM:-0700
TZOFFSETTO:-0600
TZNAME:MDT
DTSTART:20230312T090000
END:DAYLIGHT
BEGIN:STANDARD
TZOFFSETFROM:-0600
TZOFFSETTO:-0700
TZNAME:MST
DTSTART:20231105T080000
END:STANDARD
BEGIN:DAYLIGHT
TZOFFSETFROM:-0700
TZOFFSETTO:-0600
TZNAME:MDT
DTSTART:20240310T090000
END:DAYLIGHT
BEGIN:STANDARD
TZOFFSETFROM:-0600
TZOFFSETTO:-0700
TZNAME:MST
DTSTART:20241103T080000
END:STANDARD
END:VTIMEZONE
BEGIN:VEVENT
DTSTART;TZID=America/Edmonton:20230506T140000
DTEND;TZID=America/Edmonton:20230506T160000
DTSTAMP:20260422T184826
CREATED:20230426T170828Z
LAST-MODIFIED:20230426T170828Z
UID:10005209-1683381600-1683388800@www.abdancealliance.ab.ca
SUMMARY:all these things collide inside of me - matinee
DESCRIPTION:Good Women Dance Collective is proud to present the culmination of its FEATURE ARTIST PROGRAM with the debut of Jess McMann’s original work\, all these things collide inside of me.\nDATES & TIMES:\nMay 4 7:30pm (Opening reception).\nMay 5 7:30pm (ASL/Deaf-Interpreted\, audio description & post-show\ndiscussion)\nMay 6 2:00pm\n\nABOUT JESS MACMANN\nJessica McMann is an Alberta -based Cree (Cowessess\, SK)\, multi-disciplinary artist. She interweaves land\, Indigenous identity\, history\, and language throughout her dance and music creation/performance practice. A classically trained flutist\, she holds a Bachelor of Music degree from the University of Calgary and an MFA in Contemporary Arts from Simon Fraser University. Her work fuses together traditional language and dance with her own contemporary experiences as an Indigenous woman and Two-Spirit person. She also is a champion powwow dancer and spends time travelling in the summer.\nHer first album of Indigenous-Classical music “Incandescent Tales” (June 2021) won Global Music Awards as well as Classical Album of the year at the 2022 YYC Music Awards. She was nominated for Indigenous Arts of the year at the 2022 WCMA’s.\nShe is currently working on her second album slated to be released October 2023. Her musical\, composition\, and soundscapes focus on land based creation and ideas of connection\, disconnection\, and home.\nHer compositions include The Realities We Have Made (2022\, Cecilia Concerts) Muskwa’s Mountain Home (2021\, Calgary Philharmonic Orchestra)\, Inni (2018\, Coastal Jazz) and soundscapes including beguiling (the) land (2020\, Project 686). Jessica has played and performed venues and festivals across Canada\, as well as toured in Sweden\, and with Laura Vinson in the Netherlands\, and Belgium. “Too Good; That MAY Be”\, an immersive soundscape performance was shown at the Urban Shaman Gallery in Winnipeg as part of “The 60’s Scoop; A Place Between” in 2017.\nJessica currently resides in Cochrane\, Alberta\, where she works for the City of Calgary as Curator of Indigenous Art. She is also co-founder and co-director Wild Mint Arts\, an Indigenous arts company and is a Laureate of the Hnatyshyn Foundation REVEAL Indigenous Art Awards (2017).\nCREW:\nCHOREOGRAPHER- Jess McMann\nPERFORMERS – Deviani Andrea\, Kadin Aumentado\, Alison Kause\, Alida Kendell\,\nKatharina Schier\, Emily Solstice Tait.\nACCESSIBILITY – Crystal Wolfe (Deaf Interpreter)\, Gail Benin (ASL Interpreter)\, Robyn Lavender (ASL Interpreter)\, Jessy Ardern (Audio Description)\nTECH – Galen Hite (Stage Manager)\, Jess McMann (Sound Design)\, Even Gilchrist (Set & Costume Designer)\,\nAinsley Hillyard (Lighting Design).
URL:https://www.abdancealliance.ab.ca/calendar-event/all-these-things-collide-inside-of-me-matinee/
LOCATION:La cite francophone\, 8627 91 St (Office #12)\, Edmonton\, Alberta\, Canada
CATEGORIES:Performance
ATTACH;FMTTYPE=image/jpeg:https://www.abdancealliance.ab.ca/wp-content/uploads/2023/04/343479786_3380751825546156_4417928527146584183_n-1.jpg
ORGANIZER;CN="Jessica McMann Arts":MAILTO:info@jessicamcmann.com
END:VEVENT
BEGIN:VEVENT
DTSTART;TZID=America/Edmonton:20230505T190000
DTEND;TZID=America/Edmonton:20230505T210000
DTSTAMP:20260422T184826
CREATED:20230426T170637Z
LAST-MODIFIED:20230426T170637Z
UID:10005208-1683313200-1683320400@www.abdancealliance.ab.ca
SUMMARY:all these things collide inside of me
DESCRIPTION:Good Women Dance Collective is proud to present the culmination of its FEATURE ARTIST PROGRAM with the debut of Jess McMann’s original work\, all these things collide inside of me.\nDATES & TIMES:\nMay 4 7:30pm (Opening reception).\nMay 5 7:30pm (ASL/Deaf-Interpreted\, audio description & post-show\ndiscussion)\nMay 6 2:00pm
URL:https://www.abdancealliance.ab.ca/calendar-event/all-these-things-collide-inside-of-me/2023-05-05/
LOCATION:La cite francophone\, 8627 91 St (Office #12)\, Edmonton\, Alberta\, Canada
CATEGORIES:Performance
ATTACH;FMTTYPE=image/jpeg:https://www.abdancealliance.ab.ca/wp-content/uploads/2023/04/343479786_3380751825546156_4417928527146584183_n.jpg
ORGANIZER;CN="Good Women Dance Collective":MAILTO:info@goodwomen.ca
END:VEVENT
BEGIN:VEVENT
DTSTART;TZID=America/Edmonton:20191218T120000
DTEND;TZID=America/Edmonton:20191218T130000
DTSTAMP:20260422T184826
CREATED:20190912T152026Z
LAST-MODIFIED:20190912T153520Z
UID:10004432-1576670400-1576674000@www.abdancealliance.ab.ca
SUMMARY:Zumba Class
DESCRIPTION:Zumba class finally available. \nAll Wednesdays from 12pm to 1pm \nTo register please contact us: \nlagirandole.ab@gmail.com AND/OR (780) -468-0057
URL:https://www.abdancealliance.ab.ca/calendar-event/zumba-class/2019-12-18/
LOCATION:La cite francophone\, 8627 91 St (Office #12)\, Edmonton\, Alberta\, Canada
CATEGORIES:Class
ATTACH;FMTTYPE=image/png:https://www.abdancealliance.ab.ca/wp-content/uploads/2019/09/Zumba.png
ORGANIZER;CN="La Girandole":MAILTO:lagirandole.ab@gmail.com
END:VEVENT
BEGIN:VEVENT
DTSTART;TZID=America/Edmonton:20191021T170000
DTEND;TZID=America/Edmonton:20191021T213000
DTSTAMP:20260422T184826
CREATED:20190918T232925Z
LAST-MODIFIED:20190925T210741Z
UID:10004471-1571677200-1571693400@www.abdancealliance.ab.ca
SUMMARY:Dancing in the early years- Community Workshop Series
DESCRIPTION:As part of the Alberta Dance Alliance- Community Workshop Series\, on October 21\, you are invited to attend this workshop for educators to enhance knowledge on how to integrate dance in your curriculum following the practices developed by Foolish Operations and its artistic director\, Julie Lebel. Register Now! \nThis workshop is for educators\, parents or artists of various disciplines working with the very young to explore benefits and strategies for more dance in their curriculum. The workshop starts with a conversation and exchange on the topic of dance in the early years to assess the needs of the group and create a community of peers. We will explore Foolish Operations’ strategies for relationship-based dance exercises that respond to children’s attachment needs and respects the physical developmental stages of children in the early years. The workshop will close with self-care relaxing movement exercises for caregivers. \nJulie Lebel graduated with a B.F.A. in Dance and is a choreographer specializing in community-engaged arts and dance in the early years. \nShe will also be presenting her show Paper Playground at the Arden Theatre in St Albert from October 17 to 19. \nPlease RSVP and register for the workshop by September 30. \nLocation: La Girandole\, #12\, 8627 91 Street. Edmonton\nDate: October 21\nTimes: 5 to 7PM (atelier en français)\, 7:30 à 9:30 PM (bilingual workshop)\nCost: 40$\nWhat to bring: water bottle\, confortable clothes to move and dance\, notebook\nTo register: administration@lagirandole.com\nMore information about Foolish Operations\nMore information about La Girandole
URL:https://www.abdancealliance.ab.ca/calendar-event/dancing-in-the-early-years-community-workshop-series/
LOCATION:La cite francophone\, 8627 91 St (Office #12)\, Edmonton\, Alberta\, Canada
CATEGORIES:Workshop
ATTACH;FMTTYPE=image/jpeg:https://www.abdancealliance.ab.ca/wp-content/uploads/2019/09/Gjpe65d4.jpeg
END:VEVENT
BEGIN:VEVENT
DTSTART;TZID=America/Edmonton:20191017T120000
DTEND;TZID=America/Edmonton:20191017T130000
DTSTAMP:20260422T184826
CREATED:20190911T193756Z
LAST-MODIFIED:20190911T233218Z
UID:10004159-1571313600-1571317200@www.abdancealliance.ab.ca
SUMMARY:Ballet Class
DESCRIPTION:The ballet class\, of 6 sessions\, starts this Thursday\, September 12 to October 17\, 2019! \nBe here with us!
URL:https://www.abdancealliance.ab.ca/calendar-event/ballet-class/2019-10-17/
LOCATION:La cite francophone\, 8627 91 St (Office #12)\, Edmonton\, Alberta\, Canada
CATEGORIES:Class
ATTACH;FMTTYPE=image/png:https://www.abdancealliance.ab.ca/wp-content/uploads/2019/09/Ballet-3.png
ORGANIZER;CN="La Girandole":MAILTO:lagirandole.ab@gmail.com
END:VEVENT
END:VCALENDAR