BEGIN:VCALENDAR
VERSION:2.0
PRODID:-//Alberta Dance Alliance - ECPv6.15.20//NONSGML v1.0//EN
CALSCALE:GREGORIAN
METHOD:PUBLISH
X-ORIGINAL-URL:https://www.abdancealliance.ab.ca
X-WR-CALDESC:Events for Alberta Dance Alliance
REFRESH-INTERVAL;VALUE=DURATION:PT1H
X-Robots-Tag:noindex
X-PUBLISHED-TTL:PT1H
BEGIN:VTIMEZONE
TZID:America/Edmonton
BEGIN:DAYLIGHT
TZOFFSETFROM:-0700
TZOFFSETTO:-0600
TZNAME:MDT
DTSTART:20190310T090000
END:DAYLIGHT
BEGIN:STANDARD
TZOFFSETFROM:-0600
TZOFFSETTO:-0700
TZNAME:MST
DTSTART:20191103T080000
END:STANDARD
BEGIN:DAYLIGHT
TZOFFSETFROM:-0700
TZOFFSETTO:-0600
TZNAME:MDT
DTSTART:20200308T090000
END:DAYLIGHT
BEGIN:STANDARD
TZOFFSETFROM:-0600
TZOFFSETTO:-0700
TZNAME:MST
DTSTART:20201101T080000
END:STANDARD
BEGIN:DAYLIGHT
TZOFFSETFROM:-0700
TZOFFSETTO:-0600
TZNAME:MDT
DTSTART:20210314T090000
END:DAYLIGHT
BEGIN:STANDARD
TZOFFSETFROM:-0600
TZOFFSETTO:-0700
TZNAME:MST
DTSTART:20211107T080000
END:STANDARD
END:VTIMEZONE
BEGIN:VEVENT
DTSTART;TZID=America/Edmonton:20201210T170000
DTEND;TZID=America/Edmonton:20201210T180000
DTSTAMP:20260424T171540
CREATED:20201021T164258Z
LAST-MODIFIED:20201021T220816Z
UID:10004454-1607619600-1607623200@www.abdancealliance.ab.ca
SUMMARY:Thinking Body Fall 2020 Online Session #2
DESCRIPTION:Please see below for more information about these sessions from instructor Isabelle Rousseau. \nI am excited to announce the Fall Session for Thinking Body online classes. \nAs some of you know\, I’ve been developing a more personal approach to the practice of the Syntonics created by Judith Koltaï\, whose own teaching stems from Thérèse Bertherat\, Françoise Mézières\, Charlotte Selver and Elsa Gindler. \nIn this class\, you will be introduced to getting feedback from your own body and letting itself rebalance through the use of “test positions” sustained in slow\, anatomically optimal positions. This accessible practice is self-regulating on the nervous system and also readily available to all. We will also spend time studying the minutiae of posture and movement coordination\, and get familiar with ways to expand range of motion with sensory input as we become more intimate with our skeleton and its properties. \nThe class is injury-free and can be practiced by all as a “prequel” to any health and training protocol\, no matter where you are on your journey to a deeper relationship to your whole self. I look forward to working with you in class. \nClasses will run from November 3rd to December 8th 2020. Classes are twice a week on Tuesdays and Thursdays from 5 pm to 6 pm MT via Zoom. \nRegistration fees are $110 for 12 classes (recorded classes available if needed).  \nTo register\, please send a message to me at this address: irousseau.moveandbemoved@gmail.com
URL:https://www.abdancealliance.ab.ca/calendar-event/thinking-body-fall-2020-online-session-2/2020-12-10/
LOCATION:Online\, Canada
CATEGORIES:Class
ORGANIZER;CN="Isabelle Rousseau":MAILTO:irousseau.moveandbemoved@gmail.com
END:VEVENT
END:VCALENDAR