BEGIN:VCALENDAR
VERSION:2.0
PRODID:-//Alberta Dance Alliance - ECPv6.15.20//NONSGML v1.0//EN
CALSCALE:GREGORIAN
METHOD:PUBLISH
X-ORIGINAL-URL:https://www.abdancealliance.ab.ca
X-WR-CALDESC:Events for Alberta Dance Alliance
REFRESH-INTERVAL;VALUE=DURATION:PT1H
X-Robots-Tag:noindex
X-PUBLISHED-TTL:PT1H
BEGIN:VTIMEZONE
TZID:America/Edmonton
BEGIN:DAYLIGHT
TZOFFSETFROM:-0700
TZOFFSETTO:-0600
TZNAME:MDT
DTSTART:20240310T090000
END:DAYLIGHT
BEGIN:STANDARD
TZOFFSETFROM:-0600
TZOFFSETTO:-0700
TZNAME:MST
DTSTART:20241103T080000
END:STANDARD
BEGIN:DAYLIGHT
TZOFFSETFROM:-0700
TZOFFSETTO:-0600
TZNAME:MDT
DTSTART:20250309T090000
END:DAYLIGHT
BEGIN:STANDARD
TZOFFSETFROM:-0600
TZOFFSETTO:-0700
TZNAME:MST
DTSTART:20251102T080000
END:STANDARD
BEGIN:DAYLIGHT
TZOFFSETFROM:-0700
TZOFFSETTO:-0600
TZNAME:MDT
DTSTART:20260308T090000
END:DAYLIGHT
BEGIN:STANDARD
TZOFFSETFROM:-0600
TZOFFSETTO:-0700
TZNAME:MST
DTSTART:20261101T080000
END:STANDARD
END:VTIMEZONE
BEGIN:VEVENT
DTSTART;TZID=America/Edmonton:20250418T193000
DTEND;TZID=America/Edmonton:20250418T203000
DTSTAMP:20260420T224132
CREATED:20250324T231953Z
LAST-MODIFIED:20250324T231953Z
UID:10005765-1745004600-1745008200@www.abdancealliance.ab.ca
SUMMARY:Mile Zero Dance’s presents Un-nevering | Thea Patterson (Montreal)
DESCRIPTION:Join us for Mile Zero Dance’s presentation of Un-nevering | Thea Patterson (Montreal) \nUn-nevering\nIt’s a microphone against the chest\nIt’s a weight like a hole\nIt’s the one who looks so as not to dissolve\nIt’s a gesture of love\nIt’s a ritual of mourning \nShe dances with the one who is there and\nnot there\nUnfinished\nun-nevering \n-Camille Reinhardt \nHow can we be together even when we are not – especially and in particular across the veil of loss that seems so (in)finite? For choreographer Thea Patterson\, Un-nevering is a response to the violent loss\, in August 2021\, of her life partner and artistic collaborator Jeremy Gordaneer. Exploring the shapes\, textures and tones of grief\, Un-nevering asks: what if there is no never? \nThis show will run for two evenings: \nAPRIL 18+19\n7:30 PM\nTickets | $35/$30 MZD Members\nMZD is located at 9931 78 Ave NW\, Edmonton \nhttps://milezerodance.com/event/un-nevering-thea-patterson-montreal/
URL:https://www.abdancealliance.ab.ca/calendar-event/mile-zero-dances-presents-un-nevering-thea-patterson-montreal/2025-04-18/
LOCATION:Mile Zero Dance\, 9931- 78 Avenue\, Edmonton\, Edmonton\, T6E 1N6\, Canada
ATTACH;FMTTYPE=image/jpeg:https://www.abdancealliance.ab.ca/wp-content/uploads/2025/03/MZD_Thea-Patterson_April.jpg
ORGANIZER;CN="Mile Zero Dance":MAILTO:info@milezerodance.com
END:VEVENT
BEGIN:VEVENT
DTSTART;TZID=America/Edmonton:20250419T193000
DTEND;TZID=America/Edmonton:20250419T203000
DTSTAMP:20260420T224132
CREATED:20250324T231953Z
LAST-MODIFIED:20250324T231953Z
UID:10005766-1745091000-1745094600@www.abdancealliance.ab.ca
SUMMARY:Mile Zero Dance’s presents Un-nevering | Thea Patterson (Montreal)
DESCRIPTION:Join us for Mile Zero Dance’s presentation of Un-nevering | Thea Patterson (Montreal) \nUn-nevering\nIt’s a microphone against the chest\nIt’s a weight like a hole\nIt’s the one who looks so as not to dissolve\nIt’s a gesture of love\nIt’s a ritual of mourning \nShe dances with the one who is there and\nnot there\nUnfinished\nun-nevering \n-Camille Reinhardt \nHow can we be together even when we are not – especially and in particular across the veil of loss that seems so (in)finite? For choreographer Thea Patterson\, Un-nevering is a response to the violent loss\, in August 2021\, of her life partner and artistic collaborator Jeremy Gordaneer. Exploring the shapes\, textures and tones of grief\, Un-nevering asks: what if there is no never? \nThis show will run for two evenings: \nAPRIL 18+19\n7:30 PM\nTickets | $35/$30 MZD Members\nMZD is located at 9931 78 Ave NW\, Edmonton \nhttps://milezerodance.com/event/un-nevering-thea-patterson-montreal/
URL:https://www.abdancealliance.ab.ca/calendar-event/mile-zero-dances-presents-un-nevering-thea-patterson-montreal/2025-04-19/
LOCATION:Mile Zero Dance\, 9931- 78 Avenue\, Edmonton\, Edmonton\, T6E 1N6\, Canada
ATTACH;FMTTYPE=image/jpeg:https://www.abdancealliance.ab.ca/wp-content/uploads/2025/03/MZD_Thea-Patterson_April.jpg
ORGANIZER;CN="Mile Zero Dance":MAILTO:info@milezerodance.com
END:VEVENT
END:VCALENDAR