BEGIN:VCALENDAR
VERSION:2.0
PRODID:-//Alberta Dance Alliance - ECPv6.15.20//NONSGML v1.0//EN
CALSCALE:GREGORIAN
METHOD:PUBLISH
X-WR-CALNAME:Alberta Dance Alliance
X-ORIGINAL-URL:https://www.abdancealliance.ab.ca
X-WR-CALDESC:Events for Alberta Dance Alliance
REFRESH-INTERVAL;VALUE=DURATION:PT1H
X-Robots-Tag:noindex
X-PUBLISHED-TTL:PT1H
BEGIN:VTIMEZONE
TZID:America/Edmonton
BEGIN:DAYLIGHT
TZOFFSETFROM:-0700
TZOFFSETTO:-0600
TZNAME:MDT
DTSTART:20240310T090000
END:DAYLIGHT
BEGIN:STANDARD
TZOFFSETFROM:-0600
TZOFFSETTO:-0700
TZNAME:MST
DTSTART:20241103T080000
END:STANDARD
BEGIN:DAYLIGHT
TZOFFSETFROM:-0700
TZOFFSETTO:-0600
TZNAME:MDT
DTSTART:20250309T090000
END:DAYLIGHT
BEGIN:STANDARD
TZOFFSETFROM:-0600
TZOFFSETTO:-0700
TZNAME:MST
DTSTART:20251102T080000
END:STANDARD
BEGIN:DAYLIGHT
TZOFFSETFROM:-0700
TZOFFSETTO:-0600
TZNAME:MDT
DTSTART:20260308T090000
END:DAYLIGHT
BEGIN:STANDARD
TZOFFSETFROM:-0600
TZOFFSETTO:-0700
TZNAME:MST
DTSTART:20261101T080000
END:STANDARD
END:VTIMEZONE
BEGIN:VEVENT
DTSTART;VALUE=DATE:20250409
DTEND;VALUE=DATE:20250413
DTSTAMP:20260420T173249
CREATED:20240718T180200Z
LAST-MODIFIED:20240718T180200Z
UID:10005265-1744156800-1744502399@www.abdancealliance.ab.ca
SUMMARY:DANCE EVOLUTION - BEARSPAW
DESCRIPTION:Fabulous Feet Productions is excited to be returning to Bearspaw\, Alberta\, to host Dance Evolution 2025. \nTo be held at the beautiful Rockpointe Church in Bearspaw\, overlooking the Rocky Mountains. \nThe festival is open to all dancers\, beginner through advanced\, 3 years of age to adult. It gives solo performers and groups the opportunity to compete whatever their style or dance\, age\, or level. With well-known adjudicators and a positive competitive environment\, this event is highly valuable to both recreational and competitive studios. \nThe energy and enthusiasm at Dance Evolution is contagious\, and we are looking forward to sharing that environment with both returning and new studios this season. \n  \nOther Dance Evolution Locations \nThis year\, we will also be hosting competitive Dance Evolution festivals in Fort Saskatchewan\, Bearspaw and Lethbridge. If you’d like to find out more about this dance festival across all the locations\, please find the information page here. \n  \nCompetition Information \nDancers are placed in categories based on their age\, their discipline\, and the number of years’ training they have. We provide an Elevated level for dancers training more than 8 hours per week. \nAdjudications are held every 45 minutes\, allowing our professional judges to positively critique the dancers. \n  \nAwards and Prizes \n“EACH” dancer is presented with a medal depending on the mark that they receive in EVERY category.\n\nAwards for recognition are presented at EACH adjudication.\n\nSoloists receive crystal trophies for OUTSTANDING and MOST PROMISING as well as a scholarship for the OUTSTANDING recipient.\n\nIn ALL duo/trio and groups categories OUTSTANDING and MOST PROMISING medals are presented to ALL dancers.\n\nOUTSTANDING CHOREOGRAPHY is also presented in ALL group categories.\n  \nQualifying for Challenges and Finals \nThe top 5 marks in group categories for each level will also qualify for our Xtreme Dance Challenge dance off\, which is held at the end of each event and gives groups the opportunity to compete for trophies and scholarships. \nDance Evolution will be a positive and professional experience for not only your dancers\, but for you as studio owners\, teachers and choreographers. \n\nEVENT DETAILS\n\n\n Date: April 9\, 2025 – April 12\, 2025\n Venue: RockPointe Church \n Address: 255024 Lochend Rd
URL:https://www.abdancealliance.ab.ca/calendar-event/dance-evolution-bearspaw/
LOCATION:Alberta
ATTACH;FMTTYPE=image/jpeg:https://www.abdancealliance.ab.ca/wp-content/uploads/2024/07/kamloops-diamond-dance-xtreme.jpg
END:VEVENT
END:VCALENDAR