BEGIN:VCALENDAR
VERSION:2.0
PRODID:-//Alberta Dance Alliance - ECPv6.15.20//NONSGML v1.0//EN
CALSCALE:GREGORIAN
METHOD:PUBLISH
X-WR-CALNAME:Alberta Dance Alliance
X-ORIGINAL-URL:https://www.abdancealliance.ab.ca
X-WR-CALDESC:Events for Alberta Dance Alliance
REFRESH-INTERVAL;VALUE=DURATION:PT1H
X-Robots-Tag:noindex
X-PUBLISHED-TTL:PT1H
BEGIN:VTIMEZONE
TZID:America/Edmonton
BEGIN:DAYLIGHT
TZOFFSETFROM:-0700
TZOFFSETTO:-0600
TZNAME:MDT
DTSTART:20240310T090000
END:DAYLIGHT
BEGIN:STANDARD
TZOFFSETFROM:-0600
TZOFFSETTO:-0700
TZNAME:MST
DTSTART:20241103T080000
END:STANDARD
BEGIN:DAYLIGHT
TZOFFSETFROM:-0700
TZOFFSETTO:-0600
TZNAME:MDT
DTSTART:20250309T090000
END:DAYLIGHT
BEGIN:STANDARD
TZOFFSETFROM:-0600
TZOFFSETTO:-0700
TZNAME:MST
DTSTART:20251102T080000
END:STANDARD
BEGIN:DAYLIGHT
TZOFFSETFROM:-0700
TZOFFSETTO:-0600
TZNAME:MDT
DTSTART:20260308T090000
END:DAYLIGHT
BEGIN:STANDARD
TZOFFSETFROM:-0600
TZOFFSETTO:-0700
TZNAME:MST
DTSTART:20261101T080000
END:STANDARD
END:VTIMEZONE
BEGIN:VEVENT
DTSTART;VALUE=DATE:20250214
DTEND;VALUE=DATE:20250216
DTSTAMP:20260419T095019
CREATED:20241106T202546Z
LAST-MODIFIED:20241106T202546Z
UID:10005690-1739491200-1739663999@www.abdancealliance.ab.ca
SUMMARY:Escape
DESCRIPTION:Escape\nFebruary 14 & 15\, 2025\nChoreography by Shay Kuebler and Emilie Leriche\nWe redefine the existing boundaries of dance this season. Entrusted with the freedom to explore the depths of their imagination\, each of these two experimental and dynamic creators have been invited to unfurl narratives that resonate with their own sensitivities and reflect the pulse of today’s ever-evolving world. These works are sure to break the bounds of what we know and take you\, our audience on an exciting escape into the unknown.
URL:https://www.abdancealliance.ab.ca/calendar-event/escape/
LOCATION:Alberta
ORGANIZER;CN="Ballet Edmonton":MAILTO:sheri@balletedmonton.ca
END:VEVENT
BEGIN:VEVENT
DTSTART;TZID=America/Edmonton:20250214T190000
DTEND;TZID=America/Edmonton:20250215T203000
DTSTAMP:20260419T095019
CREATED:20250205T210731Z
LAST-MODIFIED:20250205T210731Z
UID:10005758-1739559600-1739651400@www.abdancealliance.ab.ca
SUMMARY:W&M Physical Theatre
DESCRIPTION:https://wmdance.com/triangular-theories-of-love-2025/
URL:https://www.abdancealliance.ab.ca/calendar-event/wm-physical-theatre/
LOCATION:Decidedly Jazz Danceworks\, 111 12 Avenue SE\, Calgary\, AB\, T2G 0Z9\, Canada
CATEGORIES:Performance
END:VEVENT
END:VCALENDAR