BEGIN:VCALENDAR
VERSION:2.0
PRODID:-//Alberta Dance Alliance - ECPv6.15.20//NONSGML v1.0//EN
CALSCALE:GREGORIAN
METHOD:PUBLISH
X-ORIGINAL-URL:https://www.abdancealliance.ab.ca
X-WR-CALDESC:Events for Alberta Dance Alliance
REFRESH-INTERVAL;VALUE=DURATION:PT1H
X-Robots-Tag:noindex
X-PUBLISHED-TTL:PT1H
BEGIN:VTIMEZONE
TZID:America/Edmonton
BEGIN:DAYLIGHT
TZOFFSETFROM:-0700
TZOFFSETTO:-0600
TZNAME:MDT
DTSTART:20230312T090000
END:DAYLIGHT
BEGIN:STANDARD
TZOFFSETFROM:-0600
TZOFFSETTO:-0700
TZNAME:MST
DTSTART:20231105T080000
END:STANDARD
BEGIN:DAYLIGHT
TZOFFSETFROM:-0700
TZOFFSETTO:-0600
TZNAME:MDT
DTSTART:20240310T090000
END:DAYLIGHT
BEGIN:STANDARD
TZOFFSETFROM:-0600
TZOFFSETTO:-0700
TZNAME:MST
DTSTART:20241103T080000
END:STANDARD
BEGIN:DAYLIGHT
TZOFFSETFROM:-0700
TZOFFSETTO:-0600
TZNAME:MDT
DTSTART:20250309T090000
END:DAYLIGHT
BEGIN:STANDARD
TZOFFSETFROM:-0600
TZOFFSETTO:-0700
TZNAME:MST
DTSTART:20251102T080000
END:STANDARD
END:VTIMEZONE
BEGIN:VEVENT
DTSTART;VALUE=DATE:20240518
DTEND;VALUE=DATE:20240520
DTSTAMP:20260424T043421
CREATED:20240403T211441Z
LAST-MODIFIED:20240403T224238Z
UID:10005235-1715990400-1716163199@www.abdancealliance.ab.ca
SUMMARY:6th Annual Tap Day Celebration
DESCRIPTION:CALGARY ALBERTA\, May 18-19\, 2024 – Tasha Lawson\, Artistic director of Tri-Tone Productions\, is excited to invite you to our 6th Annual Tap Day Celebration. \nIn partnership with Decidedly Jazz Danceworks\, we bring together over 100 Tap Dancers from across Alberta for an eclectic evening of rhythm and expression\, honouring the legacy of Tap Legend\, the late Bill “Bojangles” Robinson. The focus of the weekend is to develop a vibrant\, inspired\, and inclusive tap dance community\, to create a platform for the creation and presentation of new work\, and to advance and celebrate rhythm tap and the percussive arts in Alberta. \nTap Day is a community-oriented event\, welcoming rhythmic artists\, musicians and spectators of all ages\, including classes\, workshops\, a live music tap jam and two concert performances. This year’s concert line up features studio submissions\, independent artists\, and the Tri-Tone Rhythm Ensemble. In addition\, we will present an excerpt of\, “Paying the Dues\,” a new work created by Jordyn Lemire during a residency at DJD. This captivating piece\, performed by nine dancers from across the West Coast\, explores the themes of perseverance and resilience\, both in the context of tap dance and life itself. \nOur Live Music Tap Jam features internationally renowned musicians; Kodi Hutchinson on Bass\, Raul Tabera on Drums\, and Michelle Grégoire on Piano. Tap Dancers join the band for an evening of swinging Jazz and improvisation! \nTap Day is an internationally recognized event\, celebrated across the globe from Tokyo to New York City. It serves as a testament to the enduring popularity and cultural significance of tap dance\, bringing together students\, professionals\, and enthusiasts alike. \nWorkshops and Master Classes\nSaturday\, May 18th – 12:00-5:00 PM – DJD Dance Centre \nLive Music Tap Jam\nSaturday\, May 18th – 7:00-9:00PM – Asylum For Art \nConcerts:\nSunday\, May 19th – 2:00 & 7:30 PM – DJD Dance Centre \nVisit: www. tashalawson.com/tapday for tickets and details!
URL:https://www.abdancealliance.ab.ca/calendar-event/6th-annual-tap-day-celebration/
LOCATION:Alberta
ATTACH;FMTTYPE=image/png:https://www.abdancealliance.ab.ca/wp-content/uploads/2024/04/10th-Anniversary_Productions-design-1024x1011-1.png
ORGANIZER;CN="Tri-Tone Productions":MAILTO:tasha@tashalawson.com
END:VEVENT
END:VCALENDAR