BEGIN:VCALENDAR
VERSION:2.0
PRODID:-//Alberta Dance Alliance - ECPv6.15.20//NONSGML v1.0//EN
CALSCALE:GREGORIAN
METHOD:PUBLISH
X-WR-CALNAME:Alberta Dance Alliance
X-ORIGINAL-URL:https://www.abdancealliance.ab.ca
X-WR-CALDESC:Events for Alberta Dance Alliance
REFRESH-INTERVAL;VALUE=DURATION:PT1H
X-Robots-Tag:noindex
X-PUBLISHED-TTL:PT1H
BEGIN:VTIMEZONE
TZID:America/Edmonton
BEGIN:DAYLIGHT
TZOFFSETFROM:-0700
TZOFFSETTO:-0600
TZNAME:MDT
DTSTART:20230312T090000
END:DAYLIGHT
BEGIN:STANDARD
TZOFFSETFROM:-0600
TZOFFSETTO:-0700
TZNAME:MST
DTSTART:20231105T080000
END:STANDARD
BEGIN:DAYLIGHT
TZOFFSETFROM:-0700
TZOFFSETTO:-0600
TZNAME:MDT
DTSTART:20240310T090000
END:DAYLIGHT
BEGIN:STANDARD
TZOFFSETFROM:-0600
TZOFFSETTO:-0700
TZNAME:MST
DTSTART:20241103T080000
END:STANDARD
BEGIN:DAYLIGHT
TZOFFSETFROM:-0700
TZOFFSETTO:-0600
TZNAME:MDT
DTSTART:20250309T090000
END:DAYLIGHT
BEGIN:STANDARD
TZOFFSETFROM:-0600
TZOFFSETTO:-0700
TZNAME:MST
DTSTART:20251102T080000
END:STANDARD
END:VTIMEZONE
BEGIN:VEVENT
DTSTART;VALUE=DATE:20240425
DTEND;VALUE=DATE:20240513
DTSTAMP:20260424T043217
CREATED:20240403T213242Z
LAST-MODIFIED:20240403T213242Z
UID:10005236-1714003200-1715558399@www.abdancealliance.ab.ca
SUMMARY:Party Time
DESCRIPTION:A spectacular spectacle about the life of a party\, featuring smoking hot dance and live music.\nThis over-the-top performance\, choreographed by Kimberley Cooper\, features a live band with music composed by and musical direction by Carsten Rubeling with Jeff Gammon\, Luis Tovar and André Wickenheiser. This piece is a surreal look at a house party\, a deep dive into the psyche of the guests\, and promises wildness\, hilarity and incredible dancing and music. \nTicket Prices $30-$71 \nPerformance Times:\nApril 25–27 | 7:30 PM\nApril 28–30 | No Performances\nMay 1–4 | 7:30 PM\nMay 5 | 2:00 PM\nMay 6–8 | No Performances\nMay 9–11 | 7:30 PM\nMay 12 | 2:00 PM
URL:https://www.abdancealliance.ab.ca/calendar-event/party-time/
LOCATION:Alberta
ATTACH;FMTTYPE=image/jpeg:https://www.abdancealliance.ab.ca/wp-content/uploads/2024/04/2024-DJD-Party-Time-POSTER-SQUARE.jpg
ORGANIZER;CN="Decidedly Jazz Danceworks":MAILTO:djd@decidedlyjazz.com
END:VEVENT
BEGIN:VEVENT
DTSTART;VALUE=DATE:20240427
DTEND;VALUE=DATE:20240428
DTSTAMP:20260424T043217
CREATED:20240403T213648Z
LAST-MODIFIED:20240403T213648Z
UID:10005237-1714176000-1714262399@www.abdancealliance.ab.ca
SUMMARY:Connections//Collisions Cabaret
DESCRIPTION:It’s Time for the Next CONNECTIONS//COLLISIONS Cabaret  \nGet tickets to MZD’s next CONNECTIONS//COLLISIONS Cabaret\, curated by Josh Languedoc! Featuring a variety of artists\, this series welcomes audiences to experience a series of new art pieces. \nFor this upcoming cabaret artists will work with the theme: Transports: Travelling\, journeying from one space to another\, public transportation\, the grey area that happens while someone/something is in transition from one point to another! \nFEATURED ARTISTS:\nJanita Frantsi\nViktoria Grynenko\nCharlee Queen\nJacqueline Ohm\nMarynia Fekecz\nJason Romero\nCydnee Chaulk\nDeanna Ketsa\nGood Women Dance Collective\nClaudia Kulay\nHebert Poll Gutierrez \nEVENT\nApril 27\n$25 | $20 MZD Members\nDoors | 7 PM\nShow | 7:30 PM\nMile Zero Dance\, 9931-78 Avenue\nGet tickets in advance online! A limited quantity will be available at the door.
URL:https://www.abdancealliance.ab.ca/calendar-event/connections-collisions-cabaret-2/
LOCATION:Alberta
ATTACH;FMTTYPE=image/png:https://www.abdancealliance.ab.ca/wp-content/uploads/2024/04/unnamed-4.png
ORGANIZER;CN="Mile Zero Dance":MAILTO:info@milezerodance.com
END:VEVENT
END:VCALENDAR