BEGIN:VCALENDAR
VERSION:2.0
PRODID:-//Alberta Dance Alliance - ECPv6.15.20//NONSGML v1.0//EN
CALSCALE:GREGORIAN
METHOD:PUBLISH
X-WR-CALNAME:Alberta Dance Alliance
X-ORIGINAL-URL:https://www.abdancealliance.ab.ca
X-WR-CALDESC:Events for Alberta Dance Alliance
REFRESH-INTERVAL;VALUE=DURATION:PT1H
X-Robots-Tag:noindex
X-PUBLISHED-TTL:PT1H
BEGIN:VTIMEZONE
TZID:America/Edmonton
BEGIN:DAYLIGHT
TZOFFSETFROM:-0700
TZOFFSETTO:-0600
TZNAME:MDT
DTSTART:20230312T090000
END:DAYLIGHT
BEGIN:STANDARD
TZOFFSETFROM:-0600
TZOFFSETTO:-0700
TZNAME:MST
DTSTART:20231105T080000
END:STANDARD
BEGIN:DAYLIGHT
TZOFFSETFROM:-0700
TZOFFSETTO:-0600
TZNAME:MDT
DTSTART:20240310T090000
END:DAYLIGHT
BEGIN:STANDARD
TZOFFSETFROM:-0600
TZOFFSETTO:-0700
TZNAME:MST
DTSTART:20241103T080000
END:STANDARD
BEGIN:DAYLIGHT
TZOFFSETFROM:-0700
TZOFFSETTO:-0600
TZNAME:MDT
DTSTART:20250309T090000
END:DAYLIGHT
BEGIN:STANDARD
TZOFFSETFROM:-0600
TZOFFSETTO:-0700
TZNAME:MST
DTSTART:20251102T080000
END:STANDARD
END:VTIMEZONE
BEGIN:VEVENT
DTSTART;TZID=America/Edmonton:20240613T080000
DTEND;TZID=America/Edmonton:20240613T170000
DTSTAMP:20260423T202114
CREATED:20240613T192506Z
LAST-MODIFIED:20240613T192506Z
UID:10005251-1718265600-1718298000@www.abdancealliance.ab.ca
SUMMARY:Updates on Season
DESCRIPTION:www.milezerodance.com \n 
URL:https://www.abdancealliance.ab.ca/calendar-event/updates-on-season/
LOCATION:Alberta
END:VEVENT
BEGIN:VEVENT
DTSTART;TZID=America/Edmonton:20240615T080000
DTEND;TZID=America/Edmonton:20240615T170000
DTSTAMP:20260423T202114
CREATED:20240612T212458Z
LAST-MODIFIED:20240613T191726Z
UID:10005248-1718438400-1718470800@www.abdancealliance.ab.ca
SUMMARY:Odditease Collective- Dark Decadence
DESCRIPTION:Delve into the depths of mystery as performers weave a tapestry of allure and allurements\, each act a mesmerizing blend of darkness and delight. Prepare to be spellbound as you beckon into a realm where the forbidden meets the fabulous\, where the art of burlesque takes on an intoxicatingly dark and decadent twist. \nWhen: June 15\, 2024\nWhere: Congress Coffee\, 215 36 Ave NE #1A\, Calgary\, AB\nTime: Doors at 8:00\, Show at 8:30 \nTickets: $15 in advance\, $20 at the door \nHosted by Gingerella\, featuring headliner Katra Corbeau\, “freshie feature” Queen Nova\, the talents of the Collective: Gingerella\, Eddi Mae\, Rosita ReBelle\, Ruby Reigns\, and Billie iDoll\, and a special guest drag duet by Spanky and the Gothfather. \nThis is a safe place; homophobia\, transphobia\, sexism\, racism\, and hate of any kind will not be tolerated.
URL:https://www.abdancealliance.ab.ca/calendar-event/odditease-collective-dark-decadence/
LOCATION:Alberta
ATTACH;FMTTYPE=image/jpeg:https://www.abdancealliance.ab.ca/wp-content/uploads/2024/06/Dark-Decadence-Burlesque-and-Drag.jpg
END:VEVENT
BEGIN:VEVENT
DTSTART;TZID=America/Edmonton:20240615T130000
DTEND;TZID=America/Edmonton:20240615T160000
DTSTAMP:20260423T202114
CREATED:20240613T192113Z
LAST-MODIFIED:20240613T192113Z
UID:10005249-1718456400-1718467200@www.abdancealliance.ab.ca
SUMMARY:In My Carnaval Era
DESCRIPTION:Fox Dance Company is thrilled to present its 9th Dance Recital\, a spectacular showcase of talent and creativity! Join them for an evening of enchanting performances as our dancers take the stage to captivate audiences with their passion and skill. From graceful ballet to energetic hip-hop\, this recital promises to be an unforgettable celebration of dance.
URL:https://www.abdancealliance.ab.ca/calendar-event/in-my-carnaval-era/
LOCATION:Alberta
ATTACH;FMTTYPE=image/png:https://www.abdancealliance.ab.ca/wp-content/uploads/2024/06/foxdance-1140x500-1.png
END:VEVENT
BEGIN:VEVENT
DTSTART;TZID=America/Edmonton:20240615T130000
DTEND;TZID=America/Edmonton:20240615T170000
DTSTAMP:20260423T202114
CREATED:20240612T211938Z
LAST-MODIFIED:20240612T211938Z
UID:10005247-1718456400-1718470800@www.abdancealliance.ab.ca
SUMMARY:Kiittaamoko Passkaan (Everybody Dance) Powwow Hosted by Inn from the Cold
DESCRIPTION:Inn from the Cold is proud to host their second annual Kiitaamoko Passkaan (Everybody Dance) Powwow on Saturday\, June 15\, 2024\,in the Harley Hotchkiss Gardens. \nThis high-energy event and community celebration showcases vibrant Indigenous culture\, song\, and dance. It will be a Traditional Powwow\, where invited traditional dancers and drum groups will showcase their talents and culture. \nHeld during National Indigenous History Month\, the Powwow will unite the community on Neighbour Day and create a safe place for celebration\, cultural connection and education. \nIf you’ve never experienced the sounds and colours of the Traditional Powwow\, this is your chance. \nJoin the dance and experience the heartbeat of the drum! \nKiitaamoko Passkaan! \nGrand Entry will start right at 1:00 p.m. The first 15 people registered in each category will be paid. Dancer registration opens at 11:30 a.m.
URL:https://www.abdancealliance.ab.ca/calendar-event/kiittaamoko-passkaan-everybody-dance-powwow-hosted-by-inn-from-the-cold/
LOCATION:Alberta
END:VEVENT
BEGIN:VEVENT
DTSTART;TZID=America/Edmonton:20240616T193000
DTEND;TZID=America/Edmonton:20240616T203000
DTSTAMP:20260423T202114
CREATED:20240613T192335Z
LAST-MODIFIED:20240613T192335Z
UID:10005250-1718566200-1718569800@www.abdancealliance.ab.ca
SUMMARY:The Gateway Show by PULSE Studios
DESCRIPTION:The Gateway show is the final show for PULSE Studio’s current graduating group of Gateway dancers. Based on their own stories\, this program gives us all the opportunity to celebrate these young dancers and the courage and self-belief it takes to grow into their futures – whatever that looks like!
URL:https://www.abdancealliance.ab.ca/calendar-event/the-gateway-show-by-pulse-studios/
LOCATION:Alberta
ATTACH;FMTTYPE=image/jpeg:https://www.abdancealliance.ab.ca/wp-content/uploads/2024/06/The-Gateway-Show.jpg
END:VEVENT
BEGIN:VEVENT
DTSTART;TZID=America/Edmonton:20240622T190000
DTEND;TZID=America/Edmonton:20240622T190000
DTSTAMP:20260423T202115
CREATED:20240613T192723Z
LAST-MODIFIED:20240613T192802Z
UID:10005252-1719082800-1719082800@www.abdancealliance.ab.ca
SUMMARY:ONE - WORLD GOES BOLLYWOOD
DESCRIPTION:It is with great pleasure that Tania Lemos Malpuria and Vishal Malpuria\, Founders of SPARQ PRODUCTIONS\, invite you to the 13th Annual ONE – WORLD GOES BOLLYWOOD\, to be held at the ARTS COMMONS JACK SINGER CONCERT HALL on June 22nd\, 2024 at 7pm.\n\nTheir charity of choice is once again the CANADIAN TRANSPLANT ASSOCIATION\, in support of Organ & Tissue Donation Awareness.\n\nONE – WORLD GOES BOLLYWOOD\, promises an immense array of dynamic and visually stunning performances from some of Alberta’s most accomplished and promising artists. This exciting and unique presentation will showcase circus performers\, tribal belly dance\, theatrical pieces\, Hip hop\, Bollywood\, Collaborative pieces\, Contemporary\, Salsa and many more. Like a jigsaw puzzle\, the performances of this evening will piece together seamlessly\, all the while portraying a beautiful relationship between and amongst different genres and cultures. This unique show full of fascinating works of integrated dance forms will provide an opportunity for audiences to extend their horizons beyond the boundaries of their own culture and experience other cultures of the world.\n\nSPARQ PRODUCTIONS is committed to professional artistic excellence through public performances and is working hard to raise the profile of integrated dance within the community\, thus trying to provide dance opportunities for local artists.\nIn this endeavor to promote diversity and community involvement\, Tania & Vishal\, are PROUD to donate part proceeds of this event to the CANADIAN TRANSPLANT ASSOCIATION in support of Organ & Tissue Donation Awareness.\n\nTickets: $55 each – Assigned SeatingTania / Vishal: 403-708-9900Etransfer made to: contact@sparqproductions.com\nOR\nBy calling in a Credit Card. Processing fee of $2 per ticket will be added on.\n\nNO REFUNDS ON TICKET PURCHASES
URL:https://www.abdancealliance.ab.ca/calendar-event/one-world-goes-bollywood-2/
LOCATION:Alberta
ATTACH;FMTTYPE=image/jpeg:https://www.abdancealliance.ab.ca/wp-content/uploads/2024/06/434316549_921061036694982_2315429270281853298_n.jpg
ORGANIZER;CN="SPARQ PRODUCTIONS INC":MAILTO:contact@sparqproductions.com
END:VEVENT
END:VCALENDAR