BEGIN:VCALENDAR
VERSION:2.0
PRODID:-//Alberta Dance Alliance - ECPv6.15.20//NONSGML v1.0//EN
CALSCALE:GREGORIAN
METHOD:PUBLISH
X-WR-CALNAME:Alberta Dance Alliance
X-ORIGINAL-URL:https://www.abdancealliance.ab.ca
X-WR-CALDESC:Events for Alberta Dance Alliance
REFRESH-INTERVAL;VALUE=DURATION:PT1H
X-Robots-Tag:noindex
X-PUBLISHED-TTL:PT1H
BEGIN:VTIMEZONE
TZID:America/Edmonton
BEGIN:DAYLIGHT
TZOFFSETFROM:-0700
TZOFFSETTO:-0600
TZNAME:MDT
DTSTART:20180311T090000
END:DAYLIGHT
BEGIN:STANDARD
TZOFFSETFROM:-0600
TZOFFSETTO:-0700
TZNAME:MST
DTSTART:20181104T080000
END:STANDARD
BEGIN:DAYLIGHT
TZOFFSETFROM:-0700
TZOFFSETTO:-0600
TZNAME:MDT
DTSTART:20190310T090000
END:DAYLIGHT
BEGIN:STANDARD
TZOFFSETFROM:-0600
TZOFFSETTO:-0700
TZNAME:MST
DTSTART:20191103T080000
END:STANDARD
BEGIN:DAYLIGHT
TZOFFSETFROM:-0700
TZOFFSETTO:-0600
TZNAME:MDT
DTSTART:20200308T090000
END:DAYLIGHT
BEGIN:STANDARD
TZOFFSETFROM:-0600
TZOFFSETTO:-0700
TZNAME:MST
DTSTART:20201101T080000
END:STANDARD
END:VTIMEZONE
BEGIN:VEVENT
DTSTART;TZID=America/Edmonton:20191015T200000
DTEND;TZID=America/Edmonton:20191027T230000
DTSTAMP:20260419T125544
CREATED:20190919T180915Z
LAST-MODIFIED:20190919T180915Z
UID:10004472-1571169600-1572217200@www.abdancealliance.ab.ca
SUMMARY:FLUID FEST
DESCRIPTION:BE MOVED. BE CURIOUS. BE FLUID. \nFluid Fest brings artists and audiences together to stir the city of Calgary with contemporary art\, dance and physical performance. For two weeks\, celebrate outstanding performance and the vast spectrum of what dance can be. Featuring extraordinary local\, national and international artists\, Fluid Fest ignites the city with performances\, workshops\, artist talks\, and happenings to inspire and connect.  \nVisit fluidfest.com for the full festival lineup and schedule.
URL:https://www.abdancealliance.ab.ca/calendar-event/fluid-fest/
LOCATION:Various venues | DJD Dance Centre (111 12 Ave SE) | cSPACE King Edward (1721 29 Ave SW) | Dickens Pub (1000 9 Ave SW) | Central Library (800 3rd St SE)\, Calgary\, Alberta\, Canada
CATEGORIES:Festival
END:VEVENT
END:VCALENDAR